BEGIN:VCALENDAR
VERSION:2.0
PRODID:-//Wet&#039;n&#039;Wild Toronto - ECPv6.15.17.1//NONSGML v1.0//EN
CALSCALE:GREGORIAN
METHOD:PUBLISH
X-WR-CALNAME:Wet&#039;n&#039;Wild Toronto
X-ORIGINAL-URL:https://wetnwildtoronto.com
X-WR-CALDESC:Events for Wet&#039;n&#039;Wild Toronto
REFRESH-INTERVAL;VALUE=DURATION:PT1H
X-Robots-Tag:noindex
X-PUBLISHED-TTL:PT1H
BEGIN:VTIMEZONE
TZID:America/Toronto
BEGIN:DAYLIGHT
TZOFFSETFROM:-0500
TZOFFSETTO:-0400
TZNAME:EDT
DTSTART:20240310T070000
END:DAYLIGHT
BEGIN:STANDARD
TZOFFSETFROM:-0400
TZOFFSETTO:-0500
TZNAME:EST
DTSTART:20241103T060000
END:STANDARD
BEGIN:DAYLIGHT
TZOFFSETFROM:-0500
TZOFFSETTO:-0400
TZNAME:EDT
DTSTART:20250309T070000
END:DAYLIGHT
BEGIN:STANDARD
TZOFFSETFROM:-0400
TZOFFSETTO:-0500
TZNAME:EST
DTSTART:20251102T060000
END:STANDARD
BEGIN:DAYLIGHT
TZOFFSETFROM:-0500
TZOFFSETTO:-0400
TZNAME:EDT
DTSTART:20260308T070000
END:DAYLIGHT
BEGIN:STANDARD
TZOFFSETFROM:-0400
TZOFFSETTO:-0500
TZNAME:EST
DTSTART:20261101T060000
END:STANDARD
END:VTIMEZONE
BEGIN:VEVENT
DTSTART;TZID=America/Toronto:20250823T110000
DTEND;TZID=America/Toronto:20250824T180000
DTSTAMP:20260421T065727
CREATED:20250811T163343Z
LAST-MODIFIED:20250817T174124Z
UID:13311-1755946800-1756058400@wetnwildtoronto.com
SUMMARY:SickKids & First Responder Appreciation Weekend
DESCRIPTION:SickKids & First Responder Appreciation Weekend\n			\n				\n				\n				\n				\n				Supporting SickKids & Honouring First Responders!\n			\n				\n				\n				\n				\n				Join us August 23 & 24 for SickKids & First Responder Appreciation Weekend\, a celebration of community\, courage\, and compassion. \n			\n			\n				\n				\n				\n				\n			\n				\n				\n				\n				\n				\n				\n			\n				\n				\n				\n				\n			\n				\n				\n				\n				\n				\n				\n				\n				\n				\n				\n				\n			\n			\n				\n				\n				\n				\n				\n				\n				\n				\n				\n				Celebrating Our First Responders\n			\n				\n				\n				\n				\n				\n\n\n\n\n\n\nTo honour our Peel Region First Responders\, we’re offering free admission with valid identification only on August 23 & 24 for Peel Region Police and Fire\, Paramedics\, Licensed Nurses\, and Medical Doctors. \nFamily members of eligible first responders can also enjoy a special discounted admission rate of $35 + tax.* This is our way of saying thank you for your hard work and dedication to keeping our community safe. \n\n\n\n\n\n\n\n			\n			\n				\n				\n				\n				\n			\n				\n				\n				\n				\n				\n				\n				\n				\n				\n				\n				\n\n\n\n\n\n\n*Valid First Responder identification must be presented at the ticket booth to receive one complimentary admission\, and discounted admission for up to 6 guests. \n\n\n\n\n\n\n\n			\n			\n				\n				\n				\n				\n			\n				\n				\n				\n				\n				\n				\n				\n				\n				\n				\n				\n			\n			\n				\n				\n				\n				\n				\n				\n				\n				\n				\n				Join Us in Supporting SickKids!\n			\n				\n				\n				\n				\n				We’re proud to support SickKids as our featured community partner and are committed to making a difference for children and families who need it most. This year\, as part of our efforts\, we are honoured to provide patient families within the SickKids community a chance to enjoy a fun-filled day together and create lasting memories. Complimentary tickets for August 23 and 24 for patient families will be distributed through our partnership with SickKids Foundation. \nYou can join us in supporting this incredible organization by visiting our booth beside Guest Services to make a donation. Every contribution counts—and we’ll match your gift\,* doubling the impact and helping SickKids continue their life-changing work. Together\, we can bring smiles\, hope\, and support to those who need it most. \n			\n			\n				\n				\n				\n				\n			\n				\n				\n				\n				\n				\n				\n				\n				\n				\n				\n				* We will match donations up to a total of $1\,000. \n			\n			\n				\n				\n				\n				\n			\n				\n				\n				\n				\n				\n				\n				\n				\n				\n				\n				\n* Weather Permitting. Event schedule is subject to change.
URL:https://wetnwildtoronto.com/event/sickkids-first-responder-appreciation-weekend/
CATEGORIES:Recurring,Seasonal
ATTACH;FMTTYPE=image/jpeg:https://wetnwildtoronto.com/wp-content/uploads/2025/08/Family-Splash-First-Responders-Weekend-1.jpg
END:VEVENT
BEGIN:VEVENT
DTSTART;TZID=America/Toronto:20250816T110000
DTEND;TZID=America/Toronto:20250816T210000
DTSTAMP:20260421T065728
CREATED:20250728T230111Z
LAST-MODIFIED:20250811T204620Z
UID:13254-1755342000-1755378000@wetnwildtoronto.com
SUMMARY:Family Splash & Glow Night
DESCRIPTION:Family Splash & Glow Night Is Making Waves!\n			\n				\n				\n				\n				\n				We Are Extending Our Park Hours on August 16!\n			\n			\n				\n				\n				\n				\n			\n				\n				\n				\n				\n				\n				\n				\n				\n				\n				\n				\n			\n			\n				\n				\n				\n				\n				\n				\n				\n				\n				\n				It's Family Night!\n			\n				\n				\n				\n				\n				Enjoy a full day of fun from 11:00 AM to 7:00 PM\, then stick around for extended park hours from 7:00 PM to 9:00 PM with extra-special activities to keep the fun going after the sun sets! \nAs the sun sets\, the park comes alive with a one-of-a-kind twilight vibe — glow-in-the-dark bubble party\, a DJ dance party\, surprise guest appearances\, and family activities at Coconut Cove with awesome prizes! Stay late\, splash under the stars\, and enjoy attractions into the evening — all included with your Season Pass or Daily Admission Ticket. \n			\n			\n				\n				\n				\n				\n			\n				\n				\n				\n				\n				\n				\n				\n				\n				\n				\n				What Can You Expect?\n			\n			\n				\n				\n				\n				\n			\n				\n				\n				\n				\n				\n				\n				\n				\n				\n				\n				\n			\n				\n				\n				\n				\n				Splash & Win\n			\n				\n				\n				\n				\n				Make a splash at Coconut Cove with family-friendly activites and chances to win great prizes! \n			\n			\n				\n				\n				\n				\n				\n				\n				\n				\n				\n				\n			\n				\n				\n				\n				\n				Surprise Special Guests\n			\n				\n				\n				\n				\n				Keep your eyes peeled! Our favourite Mermaid and Pirate will be popping by to join the fun! \n			\n			\n				\n				\n				\n				\n				\n				\n				\n				\n				\n				\n			\n				\n				\n				\n				\n				Glow-in-the-Dark Bubble Party\n			\n				\n				\n				\n				\n				It’s bubbles like you’ve never seen before—lit up\, glowing\, and totally unforgettable! \n			\n			\n				\n				\n				\n				\n			\n				\n				\n				\n				\n				\n				\n				\n				\n				\n				\n				\n			\n				\n				\n				\n				\n				DJ Dance Party\n			\n				\n				\n				\n				\n				Get your groove on! DJ Dance Party pumping tunes from dusk till close! \n			\n			\n				\n				\n				\n				\n				\n				\n				\n				\n				\n				\n			\n				\n				\n				\n				\n				Splash After Sunset\n			\n				\n				\n				\n				\n				Enjoy attractions into the evening and enjoy a waterpark experience as the sky turns to starlight! \n			\n			\n				\n				\n				\n				\n				\n				\n				\n				\n				\n				\n			\n				\n				\n				\n				\n				Included with Admission\n			\n				\n				\n				\n				\n				Included with Your Season Pass or Daily Admission Ticket. \n			\n			\n				\n				\n				\n				\n			\n				\n				\n				\n				\n				\n				\n				\n				\n				\n				\n				Event Schedule\n			\n				\n				\n				\n				\n				11:00 AM – 7:00 PM: Regular Park OperationsMake a splash all day long during regular park hours! \n7:00 PM – 8:30 PM: Poolside Activities (Coconut Cove Pool)As the sun sets\, the fun heats up with exciting activities that keep the energy going into the night. \n8:30 PM – 9:00 PM: Glow-In-The-Dark Bubble Party (Pizza Pizza Stage)A high-energy\, glow-in-the-dark bubble dance party with our DJ\, where glowing bubbly fun\, and non-stop music keep the dance floor alive all night. \n			\n			\n				\n				\n				\n				\n			\n				\n				\n				\n				\n				\n				\n				\n				\n				\n				\n				\n* Weather Permitting. Event schedule is subject to change.
URL:https://wetnwildtoronto.com/event/family-splash-glow-night/
CATEGORIES:Recurring,Seasonal
ATTACH;FMTTYPE=image/jpeg:https://wetnwildtoronto.com/wp-content/uploads/2025/07/Event-Family-Splash-And-Glow-Night.jpg
END:VEVENT
BEGIN:VEVENT
DTSTART;TZID=America/Toronto:20250809T110000
DTEND;TZID=America/Toronto:20250810T190000
DTSTAMP:20260421T065728
CREATED:20250806T020032Z
LAST-MODIFIED:20250810T145547Z
UID:13293-1754737200-1754852400@wetnwildtoronto.com
SUMMARY:Family Fun Weekend
DESCRIPTION:Family Fun Weekend Splashdown!\n			\n				\n				\n				\n				\n				More Than Just a Day at the Waterpark!\n			\n			\n				\n				\n				\n				\n			\n				\n				\n				\n				\n				\n				\n				\n				\n				\n				\n				\n			\n			\n				\n				\n				\n				\n				\n				\n				\n				\n				\n				August 9 & August 10 is Family Weekend!\n			\n				\n				\n				\n				\n				Get ready for the best day ever at the waterpark with our Splashtastic Family Fun Day! Enjoy a full day of slides\, splash zones\, and water-filled adventures for the whole family. \nDance to your favourite tunes at our high-energy DJ parties\, and don’t miss surprise visits from fun characters like a friendly pirate and a magical mermaid! With plenty of laughs\, music\, and memories waiting\, all you need is your swimsuit and your biggest smile—because the fun never dries up! \n			\n			\n				\n				\n				\n				\n			\n				\n				\n				\n				\n				\n				\n				\n				\n				\n				\n				Join Us in Supporting SickKids!\n			\n			\n				\n				\n				\n				\n			\n				\n				\n				\n				\n				\n				\n				\n				\n				\n				\n				\n			\n			\n				\n				\n				\n				\n				\n				\n				\n				\n				\n				We’re proud to support SickKids as our featured community partner. Visit our booth beside Guest Services to make a donation\, and we’ll match your gift*—doubling the impact and helping make a difference in the lives of children and families who need it most. \n			\n				\n				\n				\n				\n				* We will match donations up to a total of $1\,000. \n			\n			\n				\n				\n				\n				\n			\n				\n				\n				\n				\n				\n				\n				\n				\n				\n				\n				What Can You Expect?\n			\n			\n				\n				\n				\n				\n			\n				\n				\n				\n				\n				\n				\n				\n				\n				\n				\n				\n			\n				\n				\n				\n				\n				DJ Dance Party\n			\n				\n				\n				\n				\n				With a live DJ playing upbeat\, kid-friendly music\, the whole family can dance\, splash\, and laugh together. It’s the ultimate mix of music\, moves\, and waterpark fun!  \n			\n			\n				\n				\n				\n				\n				\n				\n				\n				\n				\n				\n			\n				\n				\n				\n				\n				Bubble Dance Party\n			\n				\n				\n				\n				\n				Get ready to dance! Our DJ is bringing the beats for an epic Bubble Dance Party—where the music’s loud\, the bubbles are flying\, and the fun never stops! \n			\n			\n				\n				\n				\n				\n				\n				\n				\n				\n				\n				\n			\n				\n				\n				\n				\n				Games & Activities\n			\n				\n				\n				\n				\n				Splash into fun with games and activities made just for family! Laugh\, play\, and explore all day! \n			\n			\n				\n				\n				\n				\n			\n				\n				\n				\n				\n				\n				\n				\n				\n				\n				\n				\n			\n				\n				\n				\n				\n				Mermaid Magic\n			\n				\n				\n				\n				\n				We’ve heard a splashy secret…A magical mermaid is set to make waves at the waterpark! Rumour has it\, she’ll be sharing her fin-tastic secrets and teaching little mermaids how to flip their tails! \nSaturday\, August 912:00 PM to 2:00 PM \n			\n			\n				\n				\n				\n				\n				\n				\n				\n				\n				\n				\n			\n				\n				\n				\n				\n				Pirate Treasure Hunt\n			\n				\n				\n				\n				\n				Word on the waves is that a pirate is sailing into the waterpark! He’s on the hunt for hidden treasure and searching for brave new crew members to join his adventure! \nSunday\, August 1012:00 PM to 2:00 PM \n			\n			\n				\n				\n				\n				\n				\n				\n				\n				\n				\n				\n			\n				\n				\n				\n				\n				Parent & Tot/Aqua Exercise\n			\n				\n				\n				\n				\n				Start your day with some splashy stretches and light water moves to get energized before diving into a full day of slide-tastic fun! \n			\n			\n				\n				\n				\n				\n			\n				\n				\n				\n				\n				\n				\n				\n				\n				\n				\n				Event Schedule\n			\n				\n				\n				\n				\n				Saturday\, August 9\n			\n				\n				\n				\n				\n				11:15 AM – 11:45 AM: Parent & Tot Splash Time (Wet’n’Wild Junior)A gentle splash session for our littlest swimmers and their grown-ups! \n12:00 PM – 2:00 PM: Mystical Mermaid SightingKeep your eyes peeled — a real mermaid is swimming by to say hello and spread some fin-tastic magic! \n1:00 PM – 1:30 PM: Mermaid Tails with the Mermaid (Big Surf Wave Pool)Join our mermaid for a special mini-lesson on how to flip\, twirl\, and glide like a true underwater star! \n1:00 PM – 4:00 PM: DJ Dance Session (Pizza Pizza Stage)The beats are bumpin’ and the fun is jumpin’ at Pizza Pizza Stage—come show us your moves! \n3:00 PM – 3:30 PM: Bubble Dance Party (Pizza Pizza Stage)Get lost in the music and a sea of bubbles with our DJ—it’s a bubbly blast you won’t want to miss! \n			\n				\n				\n				\n				\n				Sunday\, August 10\n			\n				\n				\n				\n				\n				11:15 AM – 11:45 AM: Aqua Exercise (Coconut Cove Pool)Start your day with a refreshing water workout to get your energy flowing for a full day of fun! \n12:00 PM – 2:00 PM: Pirate Sighting at the Park!Ahoy! A mischievous pirate is making landfall—swing by for high-seas fun\, laughs\, and maybe a few surprises! \n1:00 PM – 1:30 PM: Treasure Hunt with the Pirate (Big Surf Wave Pool)Join our swashbuckling pirate on a hunt for hidden treasure—he’s looking for brave crew mates! \n1:00 PM – 4:00 PM: DJ Dance Session (Pizza Pizza Stage)The beats are bumpin’ and the fun is jumpin’ at Pizza Pizza Stage—come show us your moves! \n3:00 PM – 3:30 PM: Bubble Dance Party (Pizza Pizza Stage)Get lost in the music and a sea of bubbles with our DJ—it’s a bubbly blast you won’t want to miss! \n			\n			\n				\n				\n				\n				\n			\n				\n				\n				\n				\n				\n				\n				\n				\n				\n				\n				\n* Weather Permitting. Event schedule is subject to change.
URL:https://wetnwildtoronto.com/event/family-fun-weekend/
CATEGORIES:Recurring,Seasonal
ATTACH;FMTTYPE=image/jpeg:https://wetnwildtoronto.com/wp-content/uploads/2025/08/Event-Family-Fun-Weekend-V2.jpg
END:VEVENT
BEGIN:VEVENT
DTSTART;TZID=America/Toronto:20250804T190000
DTEND;TZID=America/Toronto:20250804T223000
DTSTAMP:20260421T065728
CREATED:20240630T192354Z
LAST-MODIFIED:20250803T212726Z
UID:3274-1754334000-1754346600@wetnwildtoronto.com
SUMMARY:Dive-In Movie at Big Surf
DESCRIPTION:Lights\, Camera\, Splash!\n			\n			\n				\n				\n				\n				\n			\n				\n				\n				\n				\n				\n				\n				\n				\n				\n				\n				\n			\n			\n				\n				\n				\n				\n				\n				\n				\n				\n				\n				It's Movie Night at Our Waterpark!\n			\n				\n				\n				\n				\n				The ultimate movie night with a splash can be experienced at our Dive-In Movie event. You\, your family and your friends can float under the stars while watching a movie projected on a giant screen right at our wave pool. The best part? You can enjoy the film while drifting in the wave pool or lounging on a chair and its included with your Season Pass or Daily Admission Ticket!  \nSo bring your swimsuits\, lifejackets\, and your towels to experience the ultimate way to combine movie magic with summer fun! \n			\n				\n				\n				\n				\n				Movie: Pirates of the Caribbean: On Stranger Tides\n			\n			\n				\n				\n				\n				\n			\n				\n				\n				\n				\n				\n				\n				\n				\n				\n				\n				Event Schedule\n			\n				\n				\n				\n				\n				11:00 AM – 7:00 PMMake a splash all day long during regular park hours! \n6:30 PM – 8:30 PMX marks the spot! Catch our pirate roaming the Big Surf Wave Pool before showtime! \n7:00 PM – 8:15 PMKeep the fun going with exclusive after-hours wave pool time while the sun sets. \nGrab Your Tube!Rent an inner tube so you can float while you watch the movie (additional charge – limited quantities available). \nSnack AttackStock up on drinks and snacks — the perfect movie-night fuel. \n8:30 PM – Show Time!Lights\, camera\, splash! The Dive-In Movie begins! \n			\n			\n				\n				\n				\n				\n			\n				\n				\n				\n				\n				\n				\n				\n				\n				\n				\n				Frequently Asked Questions\n			\n				\n				\n				\n				\n				How old do you have to be to attend the Dive-In Movie?\n				Our Dive-In Movie is a family-friendly event\, so guests of all ages are welcome to attend! \n			\n				\n				\n				\n				\n				What time will the movie start?\n				The movie will start at 8:30 PM\, right after the sun sets! \n			\n				\n				\n				\n				\n				Do I have to purchase a ticket to this event?\n				No extra ticket is needed! The Dive‑In Movie is included with your Season Pass or Daily Admission ticket\, and no reservation is required. \n			\n				\n				\n				\n				\n				What attractions will be open for this event?\n				The Big Surf Wave Pool will be open during the event! From 7:00 PM to 8:15 PM you can enjoy the waves\, and then the waves will pause so everyone can relax and watch the movie starting at 8:30 PM. \n			\n			\n				\n				\n				\n				\n			\n				\n				\n				\n				\n				\n				\n				\n				\n				\n				\n				* Weather permitting. Event schedule is subject to change.
URL:https://wetnwildtoronto.com/event/dive-in-movie-nights/
CATEGORIES:Recurring,Seasonal
ATTACH;FMTTYPE=image/jpeg:https://wetnwildtoronto.com/wp-content/uploads/2024/06/WnWT-Events-Dive-In-Movie.jpg
END:VEVENT
BEGIN:VEVENT
DTSTART;TZID=America/Toronto:20250704T190000
DTEND;TZID=America/Toronto:20250704T220000
DTSTAMP:20260421T065728
CREATED:20250508T133000Z
LAST-MODIFIED:20250628T174213Z
UID:12687-1751655600-1751666400@wetnwildtoronto.com
SUMMARY:Summer Nights
DESCRIPTION:Families can enjoy the waterpark as the sun sets!\nUnique twilight atmosphere with a vibrant summer vibe!\nIt’s bubbles like you’ve never seen before—lit up\, glowing\, and totally unforgettable!\nEnjoy select attractions into the evening and enjoy a waterpark experience as the sky turns to starlight!\n(Big Surf Wave Pool\, Caribbean Chaos\, Coconut Cove\, Klondike Express\, Krazy Kanuck\, Oh Canada!)\nIncluded with Your Season Pass or Daily Admission Ticket.\n\n\nNew in 2025 – Summer Nights! Enjoy the waterpark beyond sunset! This summer\, we’re keeping the good vibes going after the sun sets with extended park hours during our Summer Nights events. Enjoy the waterpark in a whole new way as we make the most out of summer! \n* Weather Permitting
URL:https://wetnwildtoronto.com/event/summer-nights/
CATEGORIES:Recurring,Seasonal
ATTACH;FMTTYPE=image/jpeg:https://wetnwildtoronto.com/wp-content/uploads/2025/05/WnWT-Events-Summer-Nights-1.jpg
END:VEVENT
BEGIN:VEVENT
DTSTART;VALUE=DATE:20250609
DTEND;VALUE=DATE:20250625
DTSTAMP:20260421T065728
CREATED:20250602T172911Z
LAST-MODIFIED:20250619T222410Z
UID:12952-1749427200-1750809599@wetnwildtoronto.com
SUMMARY:Bonus Splash Days - Select Attractions Open!
DESCRIPTION:The perfect daytime adventure to cool off with the kids before summer officially kicks off!\nBonus Splash Days run on weekdays only!\nWaterpark will be open from 12:00PM to 6:00PM with select attractions available to enjoy!\nFree for all 2025 Passholders\, or just $32.00 + tax for admission available Online and at the Front Gate! Daily Parking is $15 (tax included).\nPlease note: Saturdays and Sundays follow our regular operational schedule.\n\n\nDates & Attractions Open:\n\nFriday\, June 20: Bear Footin’ Bay\, Caribbean Chaos\, Big Surf Wave Pool\, Krazy Kanuck\, Lil’ Twister\, Minnow Falls\, Wet’n’Wild Junior!*\nMonday\, June 23 | Tuesday\, June 24: Select rides in rotation\, Bear Footin’ Bay\, Big Surf Wave Pool\, Lil’ Twister\, Minnow Falls\, Wet’n’Wild Junior!*\n\n  \nBUY NOW!\n  \n\nBonus Splash Days are making waves! Gather the whole family and dive into the fun with select attractions open just before summer’s arrival. It’s the ultimate spot for little ones to splash\, jump\, and play the day away. With the summer heat starting to sizzle\, there’s no cooler way to beat it than at the waterpark. So\, grab your swimsuits and your sunscreen\, and get ready to make a splash this season! \n* Weather Permitting. Attractions are subject to change.
URL:https://wetnwildtoronto.com/event/bonus-spash-days/
CATEGORIES:Recurring,Seasonal
ATTACH;FMTTYPE=image/jpeg:https://wetnwildtoronto.com/wp-content/uploads/2025/06/WnWT-Bonus-Splash-Days-Thumbnail.jpg
END:VEVENT
BEGIN:VEVENT
DTSTART;VALUE=DATE:20250607
DTEND;VALUE=DATE:20250908
DTSTAMP:20260421T065728
CREATED:20240706T223315Z
LAST-MODIFIED:20250803T142043Z
UID:3353-1749254400-1757289599@wetnwildtoronto.com
SUMMARY:Bubble Parties
DESCRIPTION:Family-friendly event filled with bubbles and foam!\nPerfect photo opportunities with vibrant bubble effects!\nHappening every Tuesday at 1:00 pm and every Sunday at 3:00 pm!\n\n\nGet ready to pop\, float\, and play at our bubble parties! Join us for one of the most whimsical celebrations in the Greater Toronto Area where bubbles take center stage! It’s an afternoon filled with laughter\, magic\, and tons of bubbly fun for kids of all ages. \n* Weather permitting. Event schedule is subject to change.
URL:https://wetnwildtoronto.com/event/bubble-parties/
CATEGORIES:Recurring,Seasonal,Long Weekend
ATTACH;FMTTYPE=image/jpeg:https://wetnwildtoronto.com/wp-content/uploads/2025/05/WnWT-Events-Bubble-Parties.jpg
END:VEVENT
END:VCALENDAR